BEGIN:VCALENDAR
VERSION:2.0
PRODID:-//wp-events-plugin.com//7.2.2.1//EN
TZID:Europe/Zurich
X-WR-TIMEZONE:Europe/Zurich
BEGIN:VEVENT
UID:81@eso-stroke.org
DTSTART;TZID=Europe/Vatican:20211126T000000
DTEND;TZID=Europe/Vatican:20211127T000000
DTSTAMP:20211111T083103Z
URL:https://eso-stroke.org/events/xx-congresso-nazionale-della-societa-ita
 liana-per-lo-studio-dello-stroke/
SUMMARY:XX Congresso Nazionale della Società Italiana per lo Studio dello 
 Stroke
DESCRIPTION:The event will be held in person in Venice\, Italy and wil be c
 onducted in Italian.\n\nMore information: https://www.sissictus.com/
CATEGORIES:ESO-Endorsed
END:VEVENT
BEGIN:VTIMEZONE
TZID:Europe/Vatican
X-LIC-LOCATION:Europe/Vatican
BEGIN:STANDARD
DTSTART:20211031T020000
TZOFFSETFROM:+0200
TZOFFSETTO:+0100
TZNAME:CET
END:STANDARD
END:VTIMEZONE
END:VCALENDAR