BEGIN:VCALENDAR
VERSION:2.0
PRODID:-//wp-events-plugin.com//7.2.2.1//EN
TZID:Europe/Zurich
X-WR-TIMEZONE:Europe/Zurich
BEGIN:VEVENT
UID:86@eso-stroke.org
DTSTART;TZID=Europe/Zurich:20211202T160000
DTEND;TZID=Europe/Zurich:20211202T183000
DTSTAMP:20211126T182903Z
URL:https://eso-stroke.org/events/wise-workshop-2021-how-to-manage-an-effi
 cient-network/
SUMMARY:WISE Workshop 2021: How to Manage an Efficient Network
DESCRIPTION:&nbsp\;\n\n\n\n&nbsp\;\n\nView the Programme\n\nRegistration if
  free and open until 2 December Register to Participate
ATTACH;FMTTYPE=image/jpeg:https://eso-stroke.org/wp-content/uploads/ESO_WI
 SE_transparent.png
CATEGORIES:ESO Event
END:VEVENT
BEGIN:VTIMEZONE
TZID:Europe/Zurich
X-LIC-LOCATION:Europe/Zurich
BEGIN:STANDARD
DTSTART:20211031T020000
TZOFFSETFROM:+0200
TZOFFSETTO:+0100
TZNAME:CET
END:STANDARD
END:VTIMEZONE
END:VCALENDAR