BEGIN:VCALENDAR
VERSION:2.0
PRODID:-//wp-events-plugin.com//7.2.2.1//EN
TZID:Europe/Zurich
X-WR-TIMEZONE:Europe/Zurich
BEGIN:VEVENT
UID:159@eso-stroke.org
DTSTART;TZID=Europe/Zurich:20231214T183000
DTEND;TZID=Europe/Zurich:20231214T193000
DTSTAMP:20231027T095559Z
URL:https://eso-stroke.org/events/wise-webinar-2023/
SUMMARY:WISE Webinar 2023
DESCRIPTION:Join us for the ESO WISE webinar “Realise your potential to m
 ake an impact in stroke research and practice” on 14 December 2023.\n\nM
 irjam Heldner and Else C. Sandset will discuss the empowerment of young st
 roke professionals and researchers to realise their full potential and bri
 dge the gap in stroke care throughout Europe. An interactive discussion wi
 th participants will follow.\n\nClick here to register today
CATEGORIES:ESO Event
END:VEVENT
BEGIN:VTIMEZONE
TZID:Europe/Zurich
X-LIC-LOCATION:Europe/Zurich
BEGIN:STANDARD
DTSTART:20231029T020000
TZOFFSETFROM:+0200
TZOFFSETTO:+0100
TZNAME:CET
END:STANDARD
END:VTIMEZONE
END:VCALENDAR