BEGIN:VCALENDAR
VERSION:2.0
PRODID:-//wp-events-plugin.com//7.2.2.1//EN
TZID:Europe/Zurich
X-WR-TIMEZONE:Europe/Zurich
BEGIN:VEVENT
UID:95@eso-stroke.org
DTSTART;TZID=Europe/Zurich:20220329T160000
DTEND;TZID=Europe/Zurich:20220329T170000
DTSTAMP:20220224T094029Z
URL:https://eso-stroke.org/events/webinar-new-eso-guidelines/
SUMMARY:WEBINAR - New ESO Guidelines
DESCRIPTION:New! ESO Guideline on Stroke in Women: Management of menopause\
 , pregnancy and puerperium\n\nHear from the guideline working group leader
 s for a better understanding of gender differences in stroke treatment and
  further presentations on the topic. Questions and discussion are highly e
 ncouraged.\n\nRegistration is free and open to all. The final programme wi
 ll be posted shortly.\n\n&nbsp\;
ATTACH;FMTTYPE=image/jpeg:https://eso-stroke.org/wp-content/uploads/ic-gui
 delines-1.png
CATEGORIES:ESO Event
END:VEVENT
BEGIN:VTIMEZONE
TZID:Europe/Zurich
X-LIC-LOCATION:Europe/Zurich
BEGIN:DAYLIGHT
DTSTART:20220327T030000
TZOFFSETFROM:+0100
TZOFFSETTO:+0200
TZNAME:CEST
END:DAYLIGHT
END:VTIMEZONE
END:VCALENDAR