BEGIN:VCALENDAR
VERSION:2.0
PRODID:-//wp-events-plugin.com//7.2.2.1//EN
TZID:Europe/Zurich
X-WR-TIMEZONE:Europe/Zurich
BEGIN:VEVENT
UID:226@eso-stroke.org
DTSTART;TZID=Europe/Zurich:20251022T000000
DTEND;TZID=Europe/Zurich:20251022T000000
DTSTAMP:20250218T092046Z
URL:https://eso-stroke.org/events/the-code-stroke-course/
SUMMARY:The Code Stroke Course
DESCRIPTION:This interactive one-day course provides up to date training in
  acute stroke management\, focusing on the hyperacute phase and the critic
 al moments during the code stroke/stroke alarm. Delivered via Zoom\, it is
  tailored for doctors involved in acute stroke care\, including junior doc
 tors\, residents\, and specialists. The course aims to enhance the speed\
 , safety\, and confidence of stroke management\, ensuring better outcomes 
 for patients.\n\n\nCourse dates\n\n\n\n\n\n 	22 October 2025 (free to cele
 brate the launch of the course)Preview Changes (opens in a new tab)\n 	4 F
 ebruary 2026\n 	27 May 2026\n\n\n\n\n\nPractical information\n\n\n\nThe co
 urse is held live via Zoom to enable interaction through questions\, polls
  and case discussions. After completing the course\, each participant will
  receive a course certificate. The course is organized by the company Stro
 m Neurology AB and is fully funded through the course fee\, with no involv
 ement of sponsors. Click here or on the button above to sign up for the 
 course.\n\n\n\nCourse fee\n€250\n\n\n\n\n\n\nRegistration\nYou register 
 for the course by sending the information listed below to info@codestrokec
 ourse.com. Within a few days\, you will receive course information includi
 ng payment instructions via email. By registering for the course\, you acc
 ept the terms and conditions here.\n\n\n\n
ATTACH;FMTTYPE=image/jpeg:https://eso-stroke.org/wp-content/uploads/The-Co
 de-Stroke-Course.png
END:VEVENT
BEGIN:VTIMEZONE
TZID:Europe/Zurich
X-LIC-LOCATION:Europe/Zurich
BEGIN:DAYLIGHT
DTSTART:20250330T030000
TZOFFSETFROM:+0100
TZOFFSETTO:+0200
TZNAME:CEST
END:DAYLIGHT
END:VTIMEZONE
END:VCALENDAR