BEGIN:VCALENDAR
VERSION:2.0
PRODID:-//wp-events-plugin.com//7.2.2.1//EN
TZID:Europe/Zurich
X-WR-TIMEZONE:Europe/Zurich
BEGIN:VEVENT
UID:53@eso-stroke.org
DTSTART;TZID=Europe/Zurich;VALUE=DATE:20210410
DTEND;TZID=Europe/Zurich;VALUE=DATE:20210619
DTSTAMP:20210315T195003Z
URL:https://eso-stroke.org/events/the-angels-initiative-international-nurs
 e-training-2/
SUMMARY:The Angels Initiative International Nurse Training
DESCRIPTION:We aim to boost the knowledge of different aspects of stroke ma
 nagement\, and facilitate the decision making upon obstacles nurses can fa
 ce on their daily work. The training will cover Nurses from the following 
 countries: Russia\; Moldova\; Kyrgyzstan\; Kazakhstan\; Belarus and Uzbeki
 stan\, with 2 hour 15 min sessions \, 1 per week\, during 5 weeks for each
  country. Invited speakers are neurologists\, psychologists and other loca
 l specialists from these countries.\n\nTargeted participants are mainly st
 roke and emergency nurses.\n\nThe meeting is open to all with relevant int
 erests. Apart from specific stroke knowledge\, we will also share informat
 ion on ICU intensive therapy\, nutritional support for patients\, placemen
 t and care of probes &amp\; catheters\, as well as administrative and self
 -psychological management.\n\n&nbsp\;\n\nMore information: www.angels-webi
 nar.net\n\nAngels Initiative is a non-promotional\, health care project of
  Boehringer Ingelheim International GmbH to support the ESO and WSO in imp
 lementing their main goal\, to improve stroke care around the world.
ATTACH;FMTTYPE=image/jpeg:https://eso-stroke.org/wp-content/uploads/Angels
 -logo-for-train-the-trainer.png
CATEGORIES:ESO-Endorsed
END:VEVENT
BEGIN:VTIMEZONE
TZID:Europe/Zurich
X-LIC-LOCATION:Europe/Zurich
BEGIN:DAYLIGHT
DTSTART:20210328T030000
TZOFFSETFROM:+0100
TZOFFSETTO:+0200
TZNAME:CEST
END:DAYLIGHT
END:VTIMEZONE
END:VCALENDAR