BEGIN:VCALENDAR
VERSION:2.0
PRODID:-//wp-events-plugin.com//7.2.2.1//EN
TZID:Europe/Zurich
X-WR-TIMEZONE:Europe/Zurich
BEGIN:VEVENT
UID:119@eso-stroke.org
DTSTART;TZID=Europe/Zurich:20221117T150000
DTEND;TZID=Europe/Zurich:20221117T170000
DTSTAMP:20221111T155241Z
URL:https://eso-stroke.org/events/taking-the-pulse-a-cardiovascular-health
 -plan-for-europe/
SUMMARY:Taking the pulse: A Cardiovascular Health Plan for Europe
DESCRIPTION:CVD remains the leading cause of mortality in Europe\, impactin
 g the daily lives of 60 million people of all ages in the EU everyday.\n\n
 This event will be an opportunity to discuss how the EU can act now to bea
 t CVD. Join to learn more about how to move from CVD to Cardiovascular hea
 lth.\n\nRegister here!
CATEGORIES:Non-ESO
END:VEVENT
BEGIN:VTIMEZONE
TZID:Europe/Zurich
X-LIC-LOCATION:Europe/Zurich
BEGIN:STANDARD
DTSTART:20221030T020000
TZOFFSETFROM:+0200
TZOFFSETTO:+0100
TZNAME:CET
END:STANDARD
END:VTIMEZONE
END:VCALENDAR