BEGIN:VCALENDAR
VERSION:2.0
PRODID:-//wp-events-plugin.com//7.2.2.1//EN
TZID:Europe/Zurich
X-WR-TIMEZONE:Europe/Zurich
BEGIN:VEVENT
UID:97@eso-stroke.org
DTSTART;TZID=Europe/Zurich:20220407T170000
DTEND;TZID=Europe/Zurich:20220407T180000
DTSTAMP:20220324T143702Z
URL:https://eso-stroke.org/events/swiss-stroke-academy-lipid-management-up
 date-in-stroke/
SUMMARY:Swiss Stroke Academy: Lipid Management: Update in Stroke
DESCRIPTION:Focus and aim\nTraining\, active participation and lively discu
 ssions. With the Swiss Stroke Academy\, the SSS would like to establish an
  educational arena to discuss exciting topics and the latest developments 
 between congresses.\nSpeakers: PD Dr. Gian Marco De Marchis\, PD Dr. Mirja
 m Heldner\nChairs: PD Dr. Gian Marco De Marchis\, PD Dr. Mirjam Heldner\nT
 argeted participants\nInterested professionals in stroke\, trainees in str
 oke
CATEGORIES:ESO-Endorsed
END:VEVENT
BEGIN:VTIMEZONE
TZID:Europe/Zurich
X-LIC-LOCATION:Europe/Zurich
BEGIN:DAYLIGHT
DTSTART:20220327T030000
TZOFFSETFROM:+0100
TZOFFSETTO:+0200
TZNAME:CEST
END:DAYLIGHT
END:VTIMEZONE
END:VCALENDAR