BEGIN:VCALENDAR
VERSION:2.0
PRODID:-//wp-events-plugin.com//7.2.2.1//EN
TZID:Europe/Zurich
X-WR-TIMEZONE:Europe/Zurich
BEGIN:VEVENT
UID:76@eso-stroke.org
DTSTART;TZID=Europe/Zurich:20211021T170000
DTEND;TZID=Europe/Zurich:20211021T180000
DTSTAMP:20211007T083625Z
URL:https://eso-stroke.org/events/swiss-stroke-academy-antiplatelet-therap
 y-after-ischaemic-stroke-or-tia/
SUMMARY:Swiss Stroke Academy: Antiplatelet therapy after ischaemic stroke o
 r TIA
DESCRIPTION:Event focus and aim\n\nTraining\, active participation and live
 ly discussions. With the Swiss Stroke Academy\, the SSS would like to esta
 blish an educational arena to discuss exciting topics and the latest devel
 opments between congresses.\n\nSpeaker: Prof. Leo Bonati\nChair: PD Dr. Gi
 an Marco De Marchis\n\nTarget audience\n\nInterested professionals in stro
 ke\, trainees in stroke\n\n&nbsp\;\n\nThe event will be held in English.\n
 \nMore information: www.swissstrokeacademy.ch
ATTACH;FMTTYPE=image/jpeg:https://eso-stroke.org/wp-content/uploads/Swiss-
 Stroke-Academy.png
CATEGORIES:ESO-Endorsed
END:VEVENT
BEGIN:VTIMEZONE
TZID:Europe/Zurich
X-LIC-LOCATION:Europe/Zurich
BEGIN:DAYLIGHT
DTSTART:20210328T030000
TZOFFSETFROM:+0100
TZOFFSETTO:+0200
TZNAME:CEST
END:DAYLIGHT
END:VTIMEZONE
END:VCALENDAR