BEGIN:VCALENDAR
VERSION:2.0
PRODID:-//wp-events-plugin.com//7.2.2.1//EN
TZID:Europe/Zurich
X-WR-TIMEZONE:Europe/Zurich
BEGIN:VEVENT
UID:40@eso-stroke.org
DTSTART;TZID=Europe/Zurich;VALUE=DATE:20201118
DTEND;TZID=Europe/Zurich;VALUE=DATE:20201122
DTSTAMP:20201019T081615Z
URL:https://eso-stroke.org/events/svin-2020-virtual-conference/
SUMMARY:SVIN 2020 Virtual Conference
DESCRIPTION:All information can be found on the SVIN Annual Meeting Webiste
 .\n\nHighlights include:\n\n 	Stroke Center Day\n 	Industry Symposia\n 	En
 gaging Virtual Platform with Lobby\, Auditorium\, Virtual Exhibit Hall and
  more!\n 	Stroke Debates\n 	Clinical Trials\n 	Tons of On-Demand Content A
 vailable For CME\n 	Virtual Networking Lounges\n 	Virtual Fellows Course\n
 AND MUCH\, MUCH MORE!\n
CATEGORIES:ESO-Endorsed
END:VEVENT
BEGIN:VTIMEZONE
TZID:Europe/Zurich
X-LIC-LOCATION:Europe/Zurich
BEGIN:STANDARD
DTSTART:20201025T020000
TZOFFSETFROM:+0200
TZOFFSETTO:+0100
TZNAME:CET
END:STANDARD
END:VTIMEZONE
END:VCALENDAR