BEGIN:VCALENDAR
VERSION:2.0
PRODID:-//wp-events-plugin.com//7.2.2.1//EN
TZID:Europe/Zurich
X-WR-TIMEZONE:Europe/Zurich
BEGIN:VEVENT
UID:58@eso-stroke.org
DTSTART;TZID=Europe/Zurich;VALUE=DATE:20210708
DTEND;TZID=Europe/Zurich;VALUE=DATE:20210711
DTSTAMP:20210414T080351Z
URL:https://eso-stroke.org/events/summer-stroke-summit-stroke-update-2021/
SUMMARY:Summer Stroke Summit 'Stroke update-2021'
DESCRIPTION:The focus of the Summit is on recent advances in stroke and up-
 to-date stroke care. The aim of the event is to promote awareness and impr
 ove understanding of stroke as well as provide Ukrainian physicians and al
 lied health professionals engaged in stroke care with an opportunity to le
 arn from renown international experts.\n\nTarget audience: Vascular Neurol
 ogists\, Clinical Neurologists\, Neurosurgeons\, Interventional Neuroradio
 logists\, Neurointensivists\, Family Physicians\, Cardiologists\, PTs\, OT
 s\, S&amp\;LPs\, Stroke Nurses\, Healthcare Managers\, Policy-makers. The 
 meeting is open to all interested in Stroke and Cerebrovascular Disease.\n
 \nMore information: https://uabi.org.ua/
CATEGORIES:ESO-Endorsed
END:VEVENT
BEGIN:VTIMEZONE
TZID:Europe/Zurich
X-LIC-LOCATION:Europe/Zurich
BEGIN:DAYLIGHT
DTSTART:20210328T030000
TZOFFSETFROM:+0100
TZOFFSETTO:+0200
TZNAME:CEST
END:DAYLIGHT
END:VTIMEZONE
END:VCALENDAR