BEGIN:VCALENDAR
VERSION:2.0
PRODID:-//wp-events-plugin.com//7.2.2.1//EN
TZID:Europe/Zurich
X-WR-TIMEZONE:Europe/Zurich
BEGIN:VEVENT
UID:60@eso-stroke.org
DTSTART;TZID=Europe/Zurich:20210629T170000
DTEND;TZID=Europe/Zurich:20210629T183000
DTSTAMP:20210526T142103Z
URL:https://eso-stroke.org/events/stryker-speaker-series-getting-to-tici-3
 -right-patient-right-place-right-treatment-right-technique/
SUMMARY:Stryker speaker series: Getting to TICI 3: Right Patient\, Right Pl
 ace\, Right Treatment\, Right Technique
DESCRIPTION:Register and reserve your place in this free webinar.\n\n\n\n&n
 bsp\;
ATTACH;FMTTYPE=image/jpeg:https://eso-stroke.org/wp-content/uploads/stryke
 r.jpg
CATEGORIES:ESO-Endorsed
END:VEVENT
BEGIN:VTIMEZONE
TZID:Europe/Zurich
X-LIC-LOCATION:Europe/Zurich
BEGIN:DAYLIGHT
DTSTART:20210328T030000
TZOFFSETFROM:+0100
TZOFFSETTO:+0200
TZNAME:CEST
END:DAYLIGHT
END:VTIMEZONE
END:VCALENDAR