BEGIN:VCALENDAR
VERSION:2.0
PRODID:-//wp-events-plugin.com//7.2.2.1//EN
TZID:Europe/Zurich
X-WR-TIMEZONE:Europe/Zurich
BEGIN:VEVENT
UID:49@eso-stroke.org
DTSTART;TZID=Africa/Cairo:20210326T110000
DTEND;TZID=Africa/Cairo:20210326T150000
DTSTAMP:20210218T171415Z
URL:https://eso-stroke.org/events/stroke-program-giving-life-a-second-chan
 ce-in-egypt/
SUMMARY:Stroke Program - Giving life a second chance in Egypt
DESCRIPTION:Stroke Scales\nNIHSS\, mRs\, ASPECTs and others (e.g swallowing
  screening)\nSpeaker: Housam Salah\, Professor of Neurology\, Cairo Univer
 sity
CATEGORIES:ESO-Endorsed
END:VEVENT
BEGIN:VTIMEZONE
TZID:Africa/Cairo
X-LIC-LOCATION:Africa/Cairo
BEGIN:STANDARD
DTSTART:20200326T110000
TZOFFSETFROM:+0200
TZOFFSETTO:+0200
TZNAME:EET
END:STANDARD
END:VTIMEZONE
END:VCALENDAR