BEGIN:VCALENDAR
VERSION:2.0
PRODID:-//wp-events-plugin.com//7.2.2.1//EN
TZID:Europe/Zurich
X-WR-TIMEZONE:Europe/Zurich
BEGIN:VEVENT
UID:52@eso-stroke.org
DTSTART;TZID=Africa/Cairo:20211231T110000
DTEND;TZID=Africa/Cairo:20211231T170000
DTSTAMP:20210218T172227Z
URL:https://eso-stroke.org/events/stroke-program-giving-life-a-second-chan
 ce-in-egypt-4/
SUMMARY:Stroke Program - Giving life a second chance in Egypt
DESCRIPTION:Stroke Research\nAnimal models\nClinical trials design and how 
 to interpret them\nStroke Registries (e.g. SITS\, ResQ)\n\nSpeaker: Ahmed 
 Abd el ALeem\, Professor of Neurology\, Cairo University
CATEGORIES:ESO-Endorsed
END:VEVENT
BEGIN:VTIMEZONE
TZID:Africa/Cairo
X-LIC-LOCATION:Africa/Cairo
BEGIN:STANDARD
DTSTART:20201231T110000
TZOFFSETFROM:+0200
TZOFFSETTO:+0200
TZNAME:EET
END:STANDARD
END:VTIMEZONE
END:VCALENDAR