BEGIN:VCALENDAR
VERSION:2.0
PRODID:-//wp-events-plugin.com//7.2.2.1//EN
TZID:Europe/Zurich
X-WR-TIMEZONE:Europe/Zurich
BEGIN:VEVENT
UID:50@eso-stroke.org
DTSTART;TZID=Africa/Cairo:20210625T110000
DTEND;TZID=Africa/Cairo:20210625T170000
DTSTAMP:20210218T171735Z
URL:https://eso-stroke.org/events/stroke-program-giving-life-a-second-chan
 ce-in-egypt-2/
SUMMARY:Stroke Program - Giving life a second chance in Egypt
DESCRIPTION:Case presentation and simulation\nSimulation body interact Brai
 nomix\nInteractive case presentation\n\nSpeaker: Ahmed Bassiouny\, Profess
 or of Interventional Neurology\, Ain Shams University
CATEGORIES:ESO-Endorsed
END:VEVENT
BEGIN:VTIMEZONE
TZID:Africa/Cairo
X-LIC-LOCATION:Africa/Cairo
BEGIN:STANDARD
DTSTART:20200625T110000
TZOFFSETFROM:+0200
TZOFFSETTO:+0200
TZNAME:EET
END:STANDARD
END:VTIMEZONE
END:VCALENDAR