BEGIN:VCALENDAR
VERSION:2.0
PRODID:-//wp-events-plugin.com//7.2.2.1//EN
TZID:Europe/Zurich
X-WR-TIMEZONE:Europe/Zurich
BEGIN:VEVENT
UID:89@eso-stroke.org
DTSTART;TZID=Europe/Zurich;VALUE=DATE:20220425
DTEND;TZID=Europe/Zurich;VALUE=DATE:20220427
DTSTAMP:20211222T102729Z
URL:https://eso-stroke.org/events/stroke-in-the-young-eso-focused-workshop
 /
SUMMARY:Stroke in the Young - ESO Focused Workshop
DESCRIPTION:The ESO Focused Workshop 2022 is organised by the Bergen Stroke
  Research Group (BSRG) in cooperation with the Norwegian Stroke Organisati
 on (NSO) and with the support of the European Stroke Organisation (ESO).\n
 \nThe application deadline is 15 January 2022.\n\nCosts for successful app
 licants include travel expenses to/from Bergen and a registration fee of 
 €50.\nParticipants’ accommodation will be provided at the conference h
 otel.\n\nMore informationincluding the application and programme: https://
 eso-stroke.org/meetings/focused-workshop-2022/\n
ATTACH;FMTTYPE=image/jpeg:https://eso-stroke.org/wp-content/uploads/Bergen
 -til-sammen.png
CATEGORIES:ESO Event
LOCATION:Haukeland University Hospital\, Haukeland University Hospital\, Be
 rgen\, Norway
X-APPLE-STRUCTURED-LOCATION;VALUE=URI;X-ADDRESS=Haukeland University Hospit
 al\, Bergen\, Norway;X-APPLE-RADIUS=100;X-TITLE=Haukeland University Hospi
 tal:geo:0,0
END:VEVENT
BEGIN:VTIMEZONE
TZID:Europe/Zurich
X-LIC-LOCATION:Europe/Zurich
BEGIN:DAYLIGHT
DTSTART:20220327T030000
TZOFFSETFROM:+0100
TZOFFSETTO:+0200
TZNAME:CEST
END:DAYLIGHT
END:VTIMEZONE
END:VCALENDAR