BEGIN:VCALENDAR
VERSION:2.0
PRODID:-//wp-events-plugin.com//7.2.2.1//EN
TZID:Europe/Zurich
X-WR-TIMEZONE:Europe/Zurich
BEGIN:VEVENT
UID:278@eso-stroke.org
DTSTART;TZID=Europe/Zurich;VALUE=DATE:20260227
DTEND;TZID=Europe/Zurich;VALUE=DATE:20260228
DTSTAMP:20260106T114247Z
URL:https://eso-stroke.org/events/stroke-and-neurology-conference-for-the-
 generalist/
SUMMARY:Stroke and Neurology Conference for the Generalist
DESCRIPTION:The Stroke and Neurology Conference for the Generalist is a one
 -day hybrid event will showcase an engaging programme that combines expert
  lectures\, interactive case discussions\, and practical learning opportun
 ities.\n\nTake a look at our programme to see what's happening on the da
 y. There will be a poster competition\, giving you an opportunity to shar
 e your work with your peers.\n\nExpert speakers will share the latest adva
 nces and clinical updates across topics such as movement disorders\, strok
 e mimics and epilepsy amongst others.\n\nMor information about the event h
 ere.
ATTACH;FMTTYPE=image/jpeg:https://eso-stroke.org/wp-content/uploads/Stroke
 -and-Neurology-Conference-for-the-Generalist_FlyerSquare_1080x1080_V1x1-10
 25.jpg
CATEGORIES:ESO-Endorsed
END:VEVENT
BEGIN:VTIMEZONE
TZID:Europe/Zurich
X-LIC-LOCATION:Europe/Zurich
BEGIN:STANDARD
DTSTART:20251026T020000
TZOFFSETFROM:+0200
TZOFFSETTO:+0100
TZNAME:CET
END:STANDARD
END:VTIMEZONE
END:VCALENDAR