BEGIN:VCALENDAR
VERSION:2.0
PRODID:-//wp-events-plugin.com//7.2.2.1//EN
TZID:Europe/Zurich
X-WR-TIMEZONE:Europe/Zurich
BEGIN:VEVENT
UID:10@eso-stroke.org
DTSTART;TZID=Europe/Lisbon;VALUE=DATE:20200706
DTEND;TZID=Europe/Lisbon;VALUE=DATE:20200711
DTSTAMP:20200421T100545Z
URL:https://eso-stroke.org/events/stroke-an-integrated-approach/
SUMMARY:STROKE - An Integrated Approach
DESCRIPTION:Event description :A dedicated one week stroke course\, designe
 d to physicians interested in stroke care\, as well as those looking for a
  general approach to cerebrovascular disease (see detailed description att
 ached).\n\nTargeted participants:Main target audience are physicians (Port
 uguese or foreigners): neurology\, neuroradiology\, internal medicine and 
 general practitioner residents\; general interns\; specialists looking for
  refreshment in stroke may also be considered. Other health care professio
 nals may be exceptionally considered.\n\nMore information about the congre
 ss can be found here.
CATEGORIES:ESO-Endorsed
END:VEVENT
BEGIN:VTIMEZONE
TZID:Europe/Lisbon
X-LIC-LOCATION:Europe/Lisbon
BEGIN:DAYLIGHT
DTSTART:20200329T020000
TZOFFSETFROM:+0000
TZOFFSETTO:+0100
TZNAME:WEST
END:DAYLIGHT
END:VTIMEZONE
END:VCALENDAR