BEGIN:VCALENDAR
VERSION:2.0
PRODID:-//wp-events-plugin.com//7.2.2.1//EN
TZID:Europe/Zurich
X-WR-TIMEZONE:Europe/Zurich
BEGIN:VEVENT
UID:64@eso-stroke.org
DTSTART;TZID=Europe/Paris;VALUE=DATE:20211005
DTEND;TZID=Europe/Paris;VALUE=DATE:20211008
DTSTAMP:20210719T075235Z
URL:https://eso-stroke.org/events/slice-worldwide/
SUMMARY:SLICE Worldwide
DESCRIPTION:SLICE Worldwide is a digital event which concerns the treatment
  and care of strokes. This congress brings together : neuroradiologists\, 
 neurologists\, anesthesists\, emergency doctors\, nurses\, technicians and
  junior doctors.\n\nhttps://masterandfellow.com/slice/ww
CATEGORIES:ESO-Endorsed
END:VEVENT
BEGIN:VTIMEZONE
TZID:Europe/Paris
X-LIC-LOCATION:Europe/Paris
BEGIN:DAYLIGHT
DTSTART:20210328T030000
TZOFFSETFROM:+0100
TZOFFSETTO:+0200
TZNAME:CEST
END:DAYLIGHT
END:VTIMEZONE
END:VCALENDAR