BEGIN:VCALENDAR
VERSION:2.0
PRODID:-//wp-events-plugin.com//7.2.2.1//EN
TZID:Europe/Zurich
X-WR-TIMEZONE:Europe/Zurich
BEGIN:VEVENT
UID:128@eso-stroke.org
DTSTART;TZID=Europe/Zurich;VALUE=DATE:20230406
DTEND;TZID=Europe/Zurich;VALUE=DATE:20230408
DTSTAMP:20230213T083648Z
URL:https://eso-stroke.org/events/slice-next-frontiers-3/
SUMMARY:SLICE Next Frontiers
DESCRIPTION:SLICE Next Frontiers is a qualitative\, fun\, and innovative ev
 ent dedicated to endovascular treatment of cerebral hemorrhage pathologies
 .\nIt’s a 100% free online event that focuses on the education of the IN
 R community.\nFor this 3rd edition\, there are novelties including:\n1) A 
 selection of rising stars of the field who will partake to the live show. 
 In addition\, these academies will have the great opportunity to practice 
 case resolutions and to attend courses with  faculty members.\n2) An orig
 inal movie will be produced\, presented\, and debated on stage. It will fo
 cus on a key issue: the follow-up of a patient with an aneurysm.\n\nPlease
  find here the link for the registration: https://masterandfellow.com/slic
 e/nf\n\nEvent website: www.slice-nextfrontiers.com
CATEGORIES:ESO-Endorsed
END:VEVENT
BEGIN:VTIMEZONE
TZID:Europe/Zurich
X-LIC-LOCATION:Europe/Zurich
BEGIN:DAYLIGHT
DTSTART:20230326T030000
TZOFFSETFROM:+0100
TZOFFSETTO:+0200
TZNAME:CEST
END:DAYLIGHT
END:VTIMEZONE
END:VCALENDAR