BEGIN:VCALENDAR
VERSION:2.0
PRODID:-//wp-events-plugin.com//7.2.2.1//EN
TZID:Europe/Zurich
X-WR-TIMEZONE:Europe/Zurich
BEGIN:VEVENT
UID:228@eso-stroke.org
DTSTART;TZID=Europe/Zurich:20250402T090000
DTEND;TZID=Europe/Zurich:20250403T170000
DTSTAMP:20250226T125414Z
URL:https://eso-stroke.org/events/slice-next-frontiers-2025/
SUMMARY:SLICE Next Frontiers 2025
DESCRIPTION:The digital event is focused on practising interventional neuro
 radiology in the neuro-endovascular treatment of hemorrhagic pathologies. 
 Its objective is to offer an educational vision\, based essentially on pra
 ctical experience.\n\n&nbsp\;\n\nRegister here. 
CATEGORIES:ESO-Endorsed
END:VEVENT
BEGIN:VTIMEZONE
TZID:Europe/Zurich
X-LIC-LOCATION:Europe/Zurich
BEGIN:DAYLIGHT
DTSTART:20250330T030000
TZOFFSETFROM:+0100
TZOFFSETTO:+0200
TZNAME:CEST
END:DAYLIGHT
END:VTIMEZONE
END:VCALENDAR