BEGIN:VCALENDAR
VERSION:2.0
PRODID:-//wp-events-plugin.com//7.2.2.1//EN
TZID:Europe/Zurich
X-WR-TIMEZONE:Europe/Zurich
BEGIN:VEVENT
UID:94@eso-stroke.org
DTSTART;TZID=Europe/Zurich;VALUE=DATE:20220413
DTEND;TZID=Europe/Zurich;VALUE=DATE:20220415
DTSTAMP:20220222T110141Z
URL:https://eso-stroke.org/events/slice-next-frontiers-2/
SUMMARY:SLICE Next Frontiers
DESCRIPTION:SLICE Next Frontiers is a digital event dedicated to endovascul
 ar treatment of cerebral haemorrhage pathologies. The objective of the con
 gress is to provide practical content intended for young interventional do
 ctors and to inform specialists about innovations in the discipline.\n\nMo
 re information: https://masterandfellow.com/slice/nf\n\nProgramme: https:/
 /acrobat.adobe.com/link/review?uri=urn:aaid:scds:US:62bf5cfb-d1c7-4e42-82d
 8-aa51ecf667a7#pageNum=1
CATEGORIES:ESO-Endorsed
END:VEVENT
BEGIN:VTIMEZONE
TZID:Europe/Zurich
X-LIC-LOCATION:Europe/Zurich
BEGIN:DAYLIGHT
DTSTART:20220327T030000
TZOFFSETFROM:+0100
TZOFFSETTO:+0200
TZNAME:CEST
END:DAYLIGHT
END:VTIMEZONE
END:VCALENDAR