BEGIN:VCALENDAR
VERSION:2.0
PRODID:-//wp-events-plugin.com//7.2.2.1//EN
TZID:Europe/Zurich
X-WR-TIMEZONE:Europe/Zurich
BEGIN:VEVENT
UID:28@eso-stroke.org
DTSTART;TZID=Europe/Zurich;VALUE=DATE:20201005
DTEND;TZID=Europe/Zurich;VALUE=DATE:20201008
DTSTAMP:20200909T114659Z
URL:https://eso-stroke.org/events/slice-2020-stroke-live-course/
SUMMARY:SLICE 2020 – Stroke Live Course
DESCRIPTION:The 6th edition of SLICE will take place 5 to 7 of October.\n\n
 The congress will be held in Montpellier with 24H diffusion.\n\nThis year 
 SLICE will be 100 % online and free. Register now!
CATEGORIES:ESO-Endorsed
END:VEVENT
BEGIN:VTIMEZONE
TZID:Europe/Zurich
X-LIC-LOCATION:Europe/Zurich
BEGIN:DAYLIGHT
DTSTART:20200329T030000
TZOFFSETFROM:+0100
TZOFFSETTO:+0200
TZNAME:CEST
END:DAYLIGHT
END:VTIMEZONE
END:VCALENDAR