BEGIN:VCALENDAR
VERSION:2.0
PRODID:-//wp-events-plugin.com//7.2.2.1//EN
TZID:Europe/Zurich
X-WR-TIMEZONE:Europe/Zurich
BEGIN:VEVENT
UID:130@eso-stroke.org
DTSTART;TZID=Europe/Zurich;VALUE=DATE:20230329
DTEND;TZID=Europe/Zurich;VALUE=DATE:20230401
DTSTAMP:20230228T095429Z
URL:https://eso-stroke.org/events/sfnr-annual-congress/
SUMMARY:SFNR ANNUAL CONGRESS
DESCRIPTION:This event focuses on radiology and neuroradiology. The detaile
 d program can be found here.\n\n&nbsp\;\n\n&nbsp\;
CATEGORIES:ESO-Endorsed
END:VEVENT
BEGIN:VTIMEZONE
TZID:Europe/Zurich
X-LIC-LOCATION:Europe/Zurich
BEGIN:DAYLIGHT
DTSTART:20230326T030000
TZOFFSETFROM:+0100
TZOFFSETTO:+0200
TZNAME:CEST
END:DAYLIGHT
END:VTIMEZONE
END:VCALENDAR