BEGIN:VCALENDAR
VERSION:2.0
PRODID:-//wp-events-plugin.com//7.2.2.1//EN
TZID:Europe/Zurich
X-WR-TIMEZONE:Europe/Zurich
BEGIN:VEVENT
UID:34@eso-stroke.org
DTSTART;TZID=Europe/Zurich:20210223T120000
DTEND;TZID=Europe/Zurich:20210223T153000
DTSTAMP:20210105T131741Z
URL:https://eso-stroke.org/events/sap-e-rolll-out-meeting-3/
SUMMARY:SAP-E Roll Out Meeting 3
DESCRIPTION:
ATTACH;FMTTYPE=image/jpeg:https://eso-stroke.org/wp-content/uploads/Stroke
 -Action-Plan-Europe-2018-2030-logo-NEW-2020.png
CATEGORIES:ESO Event
END:VEVENT
BEGIN:VTIMEZONE
TZID:Europe/Zurich
X-LIC-LOCATION:Europe/Zurich
BEGIN:STANDARD
DTSTART:20201025T020000
TZOFFSETFROM:+0200
TZOFFSETTO:+0100
TZNAME:CET
END:STANDARD
END:VTIMEZONE
END:VCALENDAR