BEGIN:VCALENDAR
VERSION:2.0
PRODID:-//wp-events-plugin.com//7.2.2.1//EN
TZID:Europe/Zurich
X-WR-TIMEZONE:Europe/Zurich
BEGIN:VEVENT
UID:33@eso-stroke.org
DTSTART;TZID=Europe/Zurich:20201208T120000
DTEND;TZID=Europe/Zurich:20201208T153000
DTSTAMP:20201107T111910Z
URL:https://eso-stroke.org/events/sap-e-rolll-out-meeting-2/
SUMMARY:SAP-E Rolll Out Meeting 2
DESCRIPTION:
ATTACH;FMTTYPE=image/jpeg:https://eso-stroke.org/wp-content/uploads/Stroke
 -Action-Plan-Europe-2018-2030-logo-NEW-2020.png
CATEGORIES:ESO Event
END:VEVENT
BEGIN:VTIMEZONE
TZID:Europe/Zurich
X-LIC-LOCATION:Europe/Zurich
BEGIN:STANDARD
DTSTART:20201025T020000
TZOFFSETFROM:+0200
TZOFFSETTO:+0100
TZNAME:CET
END:STANDARD
END:VTIMEZONE
END:VCALENDAR