BEGIN:VCALENDAR
VERSION:2.0
PRODID:-//wp-events-plugin.com//7.2.2.1//EN
TZID:Europe/Zurich
X-WR-TIMEZONE:Europe/Zurich
BEGIN:VEVENT
UID:73@eso-stroke.org
DTSTART;TZID=Europe/Zurich:20211019T140000
DTEND;TZID=Europe/Zurich:20211019T150000
DTSTAMP:20210922T130947Z
URL:https://eso-stroke.org/events/sap-e-implementing-together-stroke-care-
 in-europe/
SUMMARY:SAP-E Implementing together Stroke Care in Europe
DESCRIPTION:\n\n\n\n\n\n\n\n\n\n\nThe first SAP-E webinar\, organised by th
 e Steering Committee of the Stroke Action Plan for Europe 2018 - 2030 will
  provide a comprehensive overview of the project and its implementation pr
 ogress.\n\nThe Stroke Action Plan for Europe (SAP-E) is a pan-European pro
 ject\, and sets targets for the implementation of evidence-based preventiv
 e actions and stroke services until 2030. It was outlined by the European 
 Stroke Organisation (ESO) in cooperation with the Stroke Alliance for Euro
 pe (SAFE) to reduce the burden of stroke through improvement of care. SAP-
 E covers the entire chain of stroke care and was designed by a large group
  of stroke experts from all regions of Europe.\n\nThe event will be held o
 nline on Tuesday\, 19 October from 14:00 – 15:00 CEST.\n\nSix internatio
 nal speakers\, some of them in their function as members of the SAP-E Stee
 ring Committee\, will give you an introduction to the largest stroke proje
 ct ever undertaken in Europe. For full programme details\, please click he
 re.\n\nFor participation\, please register until 17 October 2021 by clicki
 ng here.\n\n\n\n\n\n\n\n\n\n\n
ATTACH;FMTTYPE=image/jpeg:https://eso-stroke.org/wp-content/uploads/SAP-E-
 Logo_LG.jpg
CATEGORIES:ESO Event
END:VEVENT
BEGIN:VTIMEZONE
TZID:Europe/Zurich
X-LIC-LOCATION:Europe/Zurich
BEGIN:DAYLIGHT
DTSTART:20210328T030000
TZOFFSETFROM:+0100
TZOFFSETTO:+0200
TZNAME:CEST
END:DAYLIGHT
END:VTIMEZONE
END:VCALENDAR