BEGIN:VCALENDAR
VERSION:2.0
PRODID:-//wp-events-plugin.com//7.2.2.1//EN
TZID:Europe/Zurich
X-WR-TIMEZONE:Europe/Zurich
BEGIN:VEVENT
UID:48@eso-stroke.org
DTSTART;TZID=Europe/Amsterdam:20210312T100000
DTEND;TZID=Europe/Amsterdam:20210312T113000
DTSTAMP:20210215T110222Z
URL:https://eso-stroke.org/events/safe-life-after-stroke-series/
SUMMARY:SAFE Life After Stroke Series
DESCRIPTION:Life after stroke webinar series 2021: Shining a spotlight on l
 ife after stroke\nThe pandemic has worsened the stroke burden and the numb
 er of stroke survivors is predicted to increase due to an ageing populatio
 n. Life after stroke care and support is even more important than ever and
  must be a priority for health and social care across Europe.\n\nThe life 
 after stroke series of free interactive events is an opportunity to build 
 the life after stroke healthcare\, research and patient community\, stimul
 ate debate and ultimately improve life after stroke care and build interes
 t for our 1st European Life After Stroke Forum on 11 March 2022.\n\nMore i
 nformation on the meeting webpage.\nRegister now for the webinar series ht
 tps://bit.ly/3cXlJFR
CATEGORIES:ESO-Endorsed
END:VEVENT
BEGIN:VTIMEZONE
TZID:Europe/Amsterdam
X-LIC-LOCATION:Europe/Amsterdam
BEGIN:STANDARD
DTSTART:20201025T020000
TZOFFSETFROM:+0200
TZOFFSETTO:+0100
TZNAME:CET
END:STANDARD
END:VTIMEZONE
END:VCALENDAR