BEGIN:VCALENDAR
VERSION:2.0
PRODID:-//wp-events-plugin.com//7.2.2.1//EN
TZID:Europe/Zurich
X-WR-TIMEZONE:Europe/Zurich
BEGIN:VEVENT
UID:292@eso-stroke.org
DTSTART;TZID=Europe/Zurich:20260324T020000
DTEND;TZID=Europe/Zurich:20260324T030000
DTSTAMP:20260323T153144Z
URL:https://eso-stroke.org/events/res-q-webinar-activate-quality/
SUMMARY:RES-Q Webinar: Activate Quality
DESCRIPTION:This webinar explores how structured quality monitoring can dri
 ve meaningful improvements in stroke care. This session is part of the Act
 ivate Quality campaign\, a global effort led through RES-Q in collaboratio
 n with international stroke organizations. The campaign promotes quality m
 onitoring as an integral part of routine clinical practice and as a key dr
 iver of continuous improvement in stroke care.\n\nAs part of this effort\,
  March and September serve as key data collection periods\, during which p
 articipating institutions are encouraged to record all consecutive stroke 
 cases. While continuous quality monitoring remains essential\, these focus
 ed periods help ensure more comprehensive national representation and gene
 rate more meaningful insights to support improvement.\n\nThe webinar will 
 highlight how structured quality monitoring translates into tangible chang
 es in clinical practice and supports the development of stronger\, more co
 ordinated stroke systems across diverse healthcare settings.\n\nChair: Nat
 an Bornstein\n\nSpeakers: Robert Mikulík\, Rupal Sedani\, Epifania Collan
 tes\, Louis Kroon\, Claudio Jimenez and Aleš Tomek\n\n&nbsp\;\n\nYou can 
 register here.
ATTACH;FMTTYPE=image/jpeg:https://eso-stroke.org/wp-content/uploads/Activa
 te-Quality-on-Stroke-Care-24-March-2026.png
CATEGORIES:Non-ESO
END:VEVENT
BEGIN:VTIMEZONE
TZID:Europe/Zurich
X-LIC-LOCATION:Europe/Zurich
BEGIN:STANDARD
DTSTART:20251026T020000
TZOFFSETFROM:+0200
TZOFFSETTO:+0100
TZNAME:CET
END:STANDARD
END:VTIMEZONE
END:VCALENDAR