BEGIN:VCALENDAR
VERSION:2.0
PRODID:-//wp-events-plugin.com//7.2.2.1//EN
TZID:Europe/Zurich
X-WR-TIMEZONE:Europe/Zurich
BEGIN:VEVENT
UID:293@eso-stroke.org
DTSTART;TZID=Europe/Zurich:20260511T130000
DTEND;TZID=Europe/Zurich:20260511T180000
DTSTAMP:20260401T130539Z
URL:https://eso-stroke.org/events/rebuilding-lives-after-stroke-global-opp
 ortunities-for-research/
SUMMARY:Rebuilding lives after stroke: Global opportunities for research
DESCRIPTION:This event is endorsed by World Stroke Organization\, British &
 amp\; Irish Association of Stroke Physicians\, NHS Research Scotland Strok
 e Research Network and the European Stroke Organisation.\n\nStroke is the
  leading cause of adult disability globally. With advances in acute treatm
 ents\, more people are surviving a stroke. But many are left with signific
 ant disability including non-motor problems such as fatigue\, mood disorde
 rs and cognitive impairment. There is an urgent need to find evidence-base
 d solutions for the multitude of long-term problems experienced by stroke 
 survivors\, in the context of multiple long-term conditions and frailty. P
 rofessor Gillian Mead\, Head of Ageing and Health at the Usher Institute\,
  and a geriatrician and stroke physician\, has championed research in ‘l
 ife after stroke’ and stroke recovery for many years.\n\nIn this network
 ing event\, we are bringing together researchers and clinicians with an in
 terest in life after stroke. We will hear from international experts in th
 is field\, including Professor Craig Anderson and Dr Juliet Bouverie OBE\,
  discuss research priorities and the research methodologies needed to deve
 lop life after stroke research globally. We hope that this event will insp
 ire new research collaborations in this crucial\, but under-researched fie
 ld.\n\nAlthough the focus of the event is on stroke\, it will also be of i
 nterest to those working in other disease areas where long-term consequenc
 es are common and under-researched\, and where patients often have multipl
 e long-term conditions and frailty.\n\nMore information here.
ATTACH;FMTTYPE=image/jpeg:https://eso-stroke.org/wp-content/uploads/900x40
 0.png.webp
CATEGORIES:ESO-Endorsed
END:VEVENT
BEGIN:VTIMEZONE
TZID:Europe/Zurich
X-LIC-LOCATION:Europe/Zurich
BEGIN:DAYLIGHT
DTSTART:20260329T030000
TZOFFSETFROM:+0100
TZOFFSETTO:+0200
TZNAME:CEST
END:DAYLIGHT
END:VTIMEZONE
END:VCALENDAR