BEGIN:VCALENDAR
VERSION:2.0
PRODID:-//wp-events-plugin.com//7.2.2.1//EN
TZID:Europe/Zurich
X-WR-TIMEZONE:Europe/Zurich
BEGIN:VEVENT
UID:188@eso-stroke.org
DTSTART;TZID=Europe/Zurich:20240829T170000
DTEND;TZID=Europe/Zurich:20240829T183000
DTSTAMP:20240723T153359Z
URL:https://eso-stroke.org/events/part-2-eso-guideline-development-webinar
 /
SUMMARY:Part 2: ESO GUIDELINE DEVELOPMENT WEBINAR
DESCRIPTION:\n\nARE YOU INTERESTED IN DEVELOPING AN ESO GUIDELINE? TAKE THE
  CHANCE AND JOIN OUR WEBINAR!\nThe webinar is offered to members of module
  working groups and all physicians interested in gaining knowledge of writ
 ing guidelines.\n\nIt explains the methodology of GRADE and the ESO SOP (S
 tandard Operating Procedure) for writing evidence-based guidelines\, train
 s all members of future module working groups and helps the groups to publ
 ish their results faster.\n\n\n\n\n\nThe Programme is divided into two par
 ts:\n\nPart 1: theoretical part including the GRADE Steps\n\nPart 2: pract
 ical examples (theory into practice)\, potential obstacles\, Quiz\n\nCombi
 ning theory\, discussion and interaction\, the webinar offers a unique tra
 ining opportunity and fosters earlier publication of results.\n\n\n\n\n\nN
 ext webinar:\n\nPart 1: Monday\, 26 August 2024\, 17:00 to 18:30 CEST.\n\n
 Part 2: Thursday\, 29 August 2024\, 17:00 to 18:30 CEST.\n\n\n\n\n\nPlease
  contact guidelines@eso-stroke.org for further information and for regis
 tration.\n\n\n
CATEGORIES:ESO Event
END:VEVENT
BEGIN:VTIMEZONE
TZID:Europe/Zurich
X-LIC-LOCATION:Europe/Zurich
BEGIN:DAYLIGHT
DTSTART:20240331T030000
TZOFFSETFROM:+0100
TZOFFSETTO:+0200
TZNAME:CEST
END:DAYLIGHT
END:VTIMEZONE
END:VCALENDAR