BEGIN:VCALENDAR
VERSION:2.0
PRODID:-//wp-events-plugin.com//7.2.2.1//EN
TZID:Europe/Zurich
X-WR-TIMEZONE:Europe/Zurich
BEGIN:VEVENT
UID:15@eso-stroke.org
DTSTART;TZID=Asia/Dubai;VALUE=DATE:20200226
DTEND;TZID=Asia/Dubai;VALUE=DATE:20200228
DTSTAMP:20200220T101608Z
URL:https://eso-stroke.org/events/pairs-neuro-congress/
SUMMARY:PAIRS - Neuro Congress
DESCRIPTION:Event description: PAIRS - Neuro is one of the largest INR meei
 ngs in the MEA Region serving to promote education &amp\; training in INR 
 and Stoke organzation and development. The Activity of the society extends
  beyongdthe geographic region to South and middle Africa\, Pakistan\, Iran
  and India. Sociey certified rich Neuro Program and workshops are organize
 d during the annual meeting and also through the year in close collaborati
 on with the ESMINT &amp\; SVIN Socities.\n\nTargeted participants: The mee
 ting is open to all relevant interests in INR and Stroke including physici
 ans (Radiologists\, Neurologsts and NEurosurgeons)\, Residents\, Intensive
  care doctors\, Nurses\, technicians\, local and regional health organizat
 ions and governemental and regulatory bodies.\n\nMore information about th
 e congress can be found here.
CATEGORIES:ESO-Endorsed
LOCATION:Hotel Barceló Sants\, Plaça dels Països Catalans s/n\, Barcelon
 a\, Spain
GEO:41.379846;2.1413188999999875
X-APPLE-STRUCTURED-LOCATION;VALUE=URI;X-ADDRESS=Plaça dels Països Catalan
 s s/n\, Barcelona\, Spain;X-APPLE-RADIUS=100;X-TITLE=Hotel Barceló Sants:
 geo:41.379846,2.1413188999999875
END:VEVENT
BEGIN:VTIMEZONE
TZID:Asia/Dubai
X-LIC-LOCATION:Asia/Dubai
BEGIN:STANDARD
DTSTART:20190226T000000
TZOFFSETFROM:+0400
TZOFFSETTO:+0400
TZNAME:+04
END:STANDARD
END:VTIMEZONE
END:VCALENDAR