BEGIN:VCALENDAR
VERSION:2.0
PRODID:-//wp-events-plugin.com//7.2.2.1//EN
TZID:Europe/Zurich
X-WR-TIMEZONE:Europe/Zurich
BEGIN:VEVENT
UID:92@eso-stroke.org
DTSTART;TZID=Europe/Zurich:20220203T170000
DTEND;TZID=Europe/Zurich:20220203T183000
DTSTAMP:20220127T092007Z
URL:https://eso-stroke.org/events/new-eso-guidelines-webinar/
SUMMARY:New ESO Guidelines Webinar
DESCRIPTION:\n\n\nProgramme\n\n\n\n\n\nThursday\, 3 February 2022\, 17:00h 
 – 18:30h CET\n\nWelcome\nSimona Sacco and Martin Dichgans\n\nESO Guideli
 ne on Mobile Stroke Units in Acute Stroke Management\nSilke Walter\n\nSett
 ing up a Mobile Stroke Program: Challenges and Opportunities\nHeinrich Aud
 ebert\n\nESO-ESMINT Expedited recommendation on intravenous thrombolysis b
 efore mechanical thrombectomy in patients with acute ischaemic stroke\nGui
 llaume Turc\n\nThe Future of Intravenous Thrombolysis Before Mechanical Th
 rombectomy: Towards Precision Medicine?\nRaul G. Nogueira\n\nLive Q &amp\;
  A\nGeorgios Tsivgoulis and Jens Fiehler\n\nMore information\n\nEvent Flye
 r\n\nRegistration\n\n\n
ATTACH;FMTTYPE=image/jpeg:https://eso-stroke.org/wp-content/uploads/ESO-Sc
 hutzraum-RGB.jpg
CATEGORIES:ESO Event
END:VEVENT
BEGIN:VTIMEZONE
TZID:Europe/Zurich
X-LIC-LOCATION:Europe/Zurich
BEGIN:STANDARD
DTSTART:20211031T020000
TZOFFSETFROM:+0200
TZOFFSETTO:+0100
TZNAME:CET
END:STANDARD
END:VTIMEZONE
END:VCALENDAR