BEGIN:VCALENDAR
VERSION:2.0
PRODID:-//wp-events-plugin.com//7.2.2.1//EN
TZID:Europe/Zurich
X-WR-TIMEZONE:Europe/Zurich
BEGIN:VEVENT
UID:72@eso-stroke.org
DTSTART;TZID=Europe/Lisbon;VALUE=DATE:20211011
DTEND;TZID=Europe/Lisbon;VALUE=DATE:20211015
DTSTAMP:20210922T130424Z
URL:https://eso-stroke.org/events/neurovascular-intensive-intervention-cou
 rse-2nd-edition/
SUMMARY:NEUROVASCULAR Intensive Intervention Course 2nd Edition
DESCRIPTION:This is a hands-on course focused on simulation for training in
  Neurointervention\, offering a 1:1 ratio of simulator to trainee. It cove
 rs the main areas of neurointervention\, namely\, stroke\, aneurysm and AV
 M/AVF endovascular treatment.\nLearning Objectives\n\n 	To know the etiolo
 gy\, pathophysiology\, imaging diagnosis and prognostic of the most\nfrequ
 ent cerebrovascular diseases\n 	To know the present state of the art treat
 ment indications for cerebrovascular diseases\n 	To structure the decision
 -making process in neurovascular diseases\n 	To acknowledge the diverse ma
 terials and devices available for endovascular treatment of\ncerebrovascul
 ar disease\n 	To acquire technical skills through simulation for the endov
 ascular treatment of acute\nstroke\, carotid stenosis\, intracranial steno
 sis\, vascular malformations\, dural AV fistula\, and\ncerebral aneurysms\
 n 	To recognise complications of endovascular treatment and practice the r
 esolution of\ncomplications with the simulator\n\nTarget Audience\nResiden
 ts in their last 2 years of residency in neuroradiology\, neurosurgery or 
 neurology\, or specialists of neuroradiology\, neurosurgery and neurology 
 can be accepted. Provided they have experience with at least diagnostic ce
 rebral angiography\, and preferably\, therapeutic angiography. Other speci
 alties may be considered on a case by case basis.\n\n&nbsp\;\n\nMore infor
 mation can be found on the course homepage: https://www.ahed.pt/en/program
 mes/view/medical-practice-technical-challenges/21-m02-neurovascular-intens
 ive-intervention-course\n\n&nbsp\;\n\n&nbsp\;
ATTACH;FMTTYPE=image/jpeg:https://eso-stroke.org/wp-content/uploads/AHED-I
 D-v1-90k-horz-lowtag_RGB.png
CATEGORIES:ESO-Endorsed
END:VEVENT
BEGIN:VTIMEZONE
TZID:Europe/Lisbon
X-LIC-LOCATION:Europe/Lisbon
BEGIN:DAYLIGHT
DTSTART:20210328T020000
TZOFFSETFROM:+0000
TZOFFSETTO:+0100
TZNAME:WEST
END:DAYLIGHT
END:VTIMEZONE
END:VCALENDAR