BEGIN:VCALENDAR
VERSION:2.0
PRODID:-//wp-events-plugin.com//7.2.2.1//EN
TZID:Europe/Zurich
X-WR-TIMEZONE:Europe/Zurich
BEGIN:VEVENT
UID:17@eso-stroke.org
DTSTART;TZID=Europe/Zurich;VALUE=DATE:20220401
DTEND;TZID=Europe/Zurich;VALUE=DATE:20220403
DTSTAMP:20210212T064955Z
URL:https://eso-stroke.org/events/lisbon-stroke-summit-2/
SUMMARY:Lisbon Stroke Summit
DESCRIPTION:Event description: Our aim is to create a scientific and networ
 king success by providing a platform for international experts to discuss 
 and compare experiences in cohesive and comprehensive sessions. Lisbon Str
 oke Summit will give participants a chance to benefit from scientific exch
 ange during the formal activities. We will have interdisciplinary roundtab
 le to discuss challenging cases with an expert panel of international neur
 ologists\, interventional neuroradiologist and internist discussing contro
 versial issues on Stroke care. It will be also an opportunity for particip
 ants to debate and discuss unresolved issues\, and discuss up-to-date scie
 ntific information essential to improve Stroke care.\n\nTargeted participa
 nts: Neurologists\, internists\, interventional neuroradiologists\, nurses
  and technicians. Meeting is open to all with relevant interest.\n\nMore i
 nformation about the congress can be found here.
CATEGORIES:ESO-Endorsed
END:VEVENT
BEGIN:VTIMEZONE
TZID:Europe/Zurich
X-LIC-LOCATION:Europe/Zurich
BEGIN:DAYLIGHT
DTSTART:20220327T030000
TZOFFSETFROM:+0100
TZOFFSETTO:+0200
TZNAME:CEST
END:DAYLIGHT
END:VTIMEZONE
END:VCALENDAR