BEGIN:VCALENDAR
VERSION:2.0
PRODID:-//wp-events-plugin.com//7.2.2.1//EN
TZID:Europe/Zurich
X-WR-TIMEZONE:Europe/Zurich
BEGIN:VEVENT
UID:227@eso-stroke.org
DTSTART;TZID=Europe/Zurich:20250224T050000
DTEND;TZID=Europe/Zurich:20250224T060000
DTSTAMP:20250219T151656Z
URL:https://eso-stroke.org/events/joint-roundtable-by-wso-eso-aha-asa/
SUMMARY:Joint Roundtable Webinar by WSO\, ESO\, AHA/ASA
DESCRIPTION:Join us for an exclusive roundtable discussion featuring key ta
 keaways from ISC 2025\, presented by leading experts from the World Stroke
  Organization (WSO)\, European Stroke Organization (ESO)\, and American He
 art Association/American Stroke Association (AHA/ASA).\n\nThis collaborati
 ve session will highlight the most impactful research\, evolving treatment
  strategies\, and future directions in stroke care.\n\nModerators: - Prof.
  Lauren Sansing (USA) - Prof. Guillaume Turc (France)\n\nSpeakers &amp\; T
 opics:\n\n- Mechanical Thrombectomy – Prof. Urs Fischer (Switzerland)\n\
 n- Intra-Arterial Lytics &amp\; Late Window IVT – Prof. Bijoy Menon (Can
 ada)\n\n- Intracerebral Hemorrhage (ICH) – Prof. Valeria Caso (Italy)\n\
 n- Stroke Prevention &amp\; Recovery – Prof. Octavio Pontes Neto (Brazil
 )\n\n&nbsp\;\n\nDate and Time: Monday\, February 24th\, 5pm (CET)\n\n&nbs
 p\;\n\nRegister here
END:VEVENT
BEGIN:VTIMEZONE
TZID:Europe/Zurich
X-LIC-LOCATION:Europe/Zurich
BEGIN:STANDARD
DTSTART:20241027T020000
TZOFFSETFROM:+0200
TZOFFSETTO:+0100
TZNAME:CET
END:STANDARD
END:VTIMEZONE
END:VCALENDAR