BEGIN:VCALENDAR
VERSION:2.0
PRODID:-//wp-events-plugin.com//7.2.2.1//EN
TZID:Europe/Zurich
X-WR-TIMEZONE:Europe/Zurich
BEGIN:VEVENT
UID:294@eso-stroke.org
DTSTART;TZID=Europe/Zurich:20260420T000000
DTEND;TZID=Europe/Zurich:20260424T000000
DTSTAMP:20260401T132207Z
URL:https://eso-stroke.org/events/iv-spring-stroke-school-by-usms/
SUMMARY:IV Spring Stroke School by USMS
DESCRIPTION:This educational project was established by our Society on a re
 gular basis in the fall of 2022 to enhance physicians’ knowledge of key 
 issues in stroke medicine\, improve the quality of stroke patient care in
  Ukraine\, foster a professional community for experience exchange and sup
 port in clinical and organizational aspects of stroke medicine\, and imple
 ment best clinical practices in the field.\n\nMore information here.
ATTACH;FMTTYPE=image/jpeg:https://eso-stroke.org/wp-content/uploads/IV-e17
 75049701847.png
CATEGORIES:ESO-Endorsed
END:VEVENT
BEGIN:VTIMEZONE
TZID:Europe/Zurich
X-LIC-LOCATION:Europe/Zurich
BEGIN:DAYLIGHT
DTSTART:20260329T030000
TZOFFSETFROM:+0100
TZOFFSETTO:+0200
TZNAME:CEST
END:DAYLIGHT
END:VTIMEZONE
END:VCALENDAR