BEGIN:VCALENDAR
VERSION:2.0
PRODID:-//wp-events-plugin.com//7.2.2.1//EN
TZID:Europe/Zurich
X-WR-TIMEZONE:Europe/Zurich
BEGIN:VEVENT
UID:189@eso-stroke.org
DTSTART;TZID=Europe/Zurich;VALUE=DATE:20241007
DTEND;TZID=Europe/Zurich;VALUE=DATE:20241010
DTSTAMP:20240729T095549Z
URL:https://eso-stroke.org/events/iii-congress-on-stroke-new-insights-and-
 perspectives-on-intracerebral-hemorrhage/
SUMMARY:III Congress on Stroke: NEW INSIGHTS AND PERSPECTIVES ON INTRACEREB
 RAL HEMORRHAGE
DESCRIPTION:III Stroke Congress: NEW INSIGHTS AND PERSPECTIVES ON INTRACER
 EBRAL HEMORRHAGE:\n\nA COMPREHENSIVE UPDATE + Ischemic Stroke Meeting. Sp
 anish Stroke Research Network\n\nBarcelona (Spain)\n7 – 9 October 2024\n
 \nMore information: https://ricors-ictus.es/symposium-on-intracerebral-hem
 orrhage-iii-annual-stroke-congress/
CATEGORIES:ESO-Endorsed
END:VEVENT
BEGIN:VTIMEZONE
TZID:Europe/Zurich
X-LIC-LOCATION:Europe/Zurich
BEGIN:DAYLIGHT
DTSTART:20240331T030000
TZOFFSETFROM:+0100
TZOFFSETTO:+0200
TZNAME:CEST
END:DAYLIGHT
END:VTIMEZONE
END:VCALENDAR