BEGIN:VCALENDAR
VERSION:2.0
PRODID:-//wp-events-plugin.com//7.2.2.1//EN
TZID:Europe/Zurich
X-WR-TIMEZONE:Europe/Zurich
BEGIN:VEVENT
UID:75@eso-stroke.org
DTSTART;TZID=Europe/Zurich:20211019T100000
DTEND;TZID=Europe/Zurich:20211019T133000
DTSTAMP:20211001T163752Z
URL:https://eso-stroke.org/events/hot-topics-in-acute-stroke-from-bench-to
 -bedside-and-back-again/
SUMMARY:Hot topics in acute stroke: from bench to bedside and back again
DESCRIPTION:The approach to reperfusion treatments in acute ischemic stroke
  continues to evolve and neuroimaging is becoming more and more important 
 in the diagnostic work-up and clinical decisions. "Imaging is brain" is re
 placing "Time is brain" and is bringing a renewed interest in the state of
  the ischemic tissue and therefore in preclinical research. Preclinical re
 search could help understanding the neuronal and vascular underpinnings of
  futile recanalization\, identify potential treatment targets and lead to 
 clinical translation. See the attached flyer for invited speakers\, topics
 \, and final programme.\n\nRegistration is free of charge. The participati
 on in the webinar delivers 4\,5 ECM.\n\n&nbsp\;\n\n&nbsp\;\n\nTRANSLATIONA
 L RESEARCH on STROKE  - TReeS -\n\nWorkshop\n\nHot topics in acute stroke
 : from bedside to bench and back again\n\n \n\nOctober 19\,  2021\n\n10.
 00 am – 1.30 pm\n\nProgram\n\n\n\nhour\ntime\nTopic\nspeaker\n\n\n10.00\
 n10’\nWelcome and Introduction\nMarzia Baldereschi\n\nCristina Sarti\n\n
 \nChairs M. Baldereschi and C. Sarti\n\n\n10.15\n30’\nOpening Lecture:\n
 \nStroke: from therapeutic nihilism  to precision medicine\nDomenico Inzi
 tari\n\n\n10.45\n15’\nAdvanced Neuroimaging in stroke clinical practice\
 nEnrico Fainardi\n\n\n11.00\n15’\nNew frontiers in stroke neuroimaging\n
 James Kennedy\n\n\nChairs A.L. Allegra Mascaro and E.  Conti\n\n\n11.15\n
 15’\nMRI in preclinical stroke research\nRick Dijkhuizen\n\n\n11.30\n15
 ’\nAdvanced optical imaging in preclinical stroke research\nAdam Bauer\n
 \n\n11.45\n5’\nSTROKELAB2BED project in a nutshell and preliminary resul
 ts\nEmilia Conti e\n\nBenedetta Piccardi\n\n\n11.50\n5’\nNIMBLE project 
 in a nutshell and preliminary results\nAlessandro Sodero\n\n\nChairs B.  
 Giusti\,A.  Gori\, B.Piccardi\n\n\n12.00\n15’\nBlood Biomarkers in acut
 e ischemic stroke\nAlejandro Bustamante\n\n\n12.15\n15’\nPlasticity of t
 he brain -from mesoscale to cellular levels- to restore sensorimotor and c
 ognitive functions after stroke\nAnn-Sophie Wahl\n\n\n12.30\n30’\n Lect
 ure:\n\nImmune biomarkers and neuroprotection\nJosef Anrather\n\n\n1.00 p
 m\n20’\nEpigenetic Pathways as Molecular and Druggable Targets in Stroke
 \, and conclusive remarks\nLucio Annunziato\n\n\n\n \n\n \n\n \n\n \n\
 n 
CATEGORIES:ESO-Endorsed
END:VEVENT
BEGIN:VTIMEZONE
TZID:Europe/Zurich
X-LIC-LOCATION:Europe/Zurich
BEGIN:DAYLIGHT
DTSTART:20210328T030000
TZOFFSETFROM:+0100
TZOFFSETTO:+0200
TZNAME:CEST
END:DAYLIGHT
END:VTIMEZONE
END:VCALENDAR