BEGIN:VCALENDAR
VERSION:2.0
PRODID:-//wp-events-plugin.com//7.2.2.1//EN
TZID:Europe/Zurich
X-WR-TIMEZONE:Europe/Zurich
BEGIN:VEVENT
UID:100@eso-stroke.org
DTSTART;TZID=Europe/Zurich:20220602T170000
DTEND;TZID=Europe/Zurich:20220602T190000
DTSTAMP:20220430T072306Z
URL:https://eso-stroke.org/events/guideline-development-webinar-part-2-of-
 2/
SUMMARY:Guideline Development Webinar - Part 2 of 2
DESCRIPTION:&nbsp\;\n\n\n\n\nAre you interested in developing an ESO Guidel
 ine? Take the chance and join our webinar!\n&nbsp\;\n\nThe webinar is offe
 red to members of module working groups and all physicians interested in g
 aining knowledge of writing guidelines.\n\nIt explains the methodology of 
 GRADE and the ESO SOP (Standard Operating Procedure) for writing evidence-
 based guidelines\, trains all members of future module working groups and 
 helps the groups to publish their results faster.\n\n\n\n\n\nThe Programme
  is divided into two parts:\n\nPart 1: theoretical part including the GRAD
 E Steps\n\nPart 2: practical examples (theory into practice)\, potential o
 bstacles\, Quiz\n\nCombining theory\, discussion and interaction\, the web
 inar offers a unique training opportunity and fosters earlier publication 
 of results.\n\n&nbsp\;\n\n\n\n\n\nThe next webinars will be held in May an
 d June 2022.\n\nPart 1: Tuesday\, 24 May 2022\, 17:00 – 19:00 CEST\n\nPa
 rt 2: Thursday\, 02 June 2022\, 17:00 – 19:00 CEST\n\n\n\n\n\nContact g
 uidelines@eso-stroke.org to sign up.\n\n\n\n\n\n&nbsp\;
CATEGORIES:ESO Event
END:VEVENT
BEGIN:VTIMEZONE
TZID:Europe/Zurich
X-LIC-LOCATION:Europe/Zurich
BEGIN:DAYLIGHT
DTSTART:20220327T030000
TZOFFSETFROM:+0100
TZOFFSETTO:+0200
TZNAME:CEST
END:DAYLIGHT
END:VTIMEZONE
END:VCALENDAR