BEGIN:VCALENDAR
VERSION:2.0
PRODID:-//wp-events-plugin.com//7.2.2.1//EN
TZID:Europe/Zurich
X-WR-TIMEZONE:Europe/Zurich
BEGIN:VEVENT
UID:68@eso-stroke.org
DTSTART;TZID=Europe/Zurich;VALUE=DATE:20211125
DTEND;TZID=Europe/Zurich;VALUE=DATE:20211128
DTSTAMP:20210810T102540Z
URL:https://eso-stroke.org/events/garmisch2021/
SUMMARY:ESO 6th Garmisch Stroke Science Workshop
DESCRIPTION:\n\n\n\n\nRenowned stroke specialists and early career colleagu
 es meet in Garmisch to explore cutting edge clinical and research aspects 
 of stroke.\n\n\n\n\n\nThe 6th Garmisch Stroke Science Workshop will take p
 lace from 25-27 November 2021. Participation by invitation.\n\n\n\n\n\n&nb
 sp\;
ATTACH;FMTTYPE=image/jpeg:https://eso-stroke.org/wp-content/uploads/Garmis
 ch-2021.png
CATEGORIES:ESO Event
END:VEVENT
BEGIN:VTIMEZONE
TZID:Europe/Zurich
X-LIC-LOCATION:Europe/Zurich
BEGIN:STANDARD
DTSTART:20211031T020000
TZOFFSETFROM:+0200
TZOFFSETTO:+0100
TZNAME:CET
END:STANDARD
END:VTIMEZONE
END:VCALENDAR