BEGIN:VCALENDAR
VERSION:2.0
PRODID:-//wp-events-plugin.com//7.2.2.1//EN
TZID:Europe/Zurich
X-WR-TIMEZONE:Europe/Zurich
BEGIN:VEVENT
UID:125@eso-stroke.org
DTSTART;TZID=Europe/Zurich;VALUE=DATE:20230310
DTEND;TZID=Europe/Zurich;VALUE=DATE:20230311
DTSTAMP:20230119T154050Z
URL:https://eso-stroke.org/events/european-life-after-stroke-forum/
SUMMARY:European Life After Stroke Forum
DESCRIPTION:The Stroke Alliance for Europe (SAFE) is holding their first fa
 ce to face event that focuses on Life After Stroke.\n\nSAFE’s European L
 ife After Stroke Forum will feature the latest evidence and research in li
 fe after stroke.\n\nThe Forum aims to build our collective knowledge in li
 fe after stroke\, stimulate debate and improve the quality of life after s
 troke for people living with stroke in Europe.\n\nBook your place at https
 ://www.elasf.org/forum-registration/
CATEGORIES:ESO-Endorsed
LOCATION:Hotel Catalonia\, Plaza Espanya\, 6-8\, Barcelona\, Spain
X-APPLE-STRUCTURED-LOCATION;VALUE=URI;X-ADDRESS=Plaza Espanya\, 6-8\, Barce
 lona\, Spain;X-APPLE-RADIUS=100;X-TITLE=Hotel Catalonia:geo:0,0
END:VEVENT
BEGIN:VTIMEZONE
TZID:Europe/Zurich
X-LIC-LOCATION:Europe/Zurich
BEGIN:STANDARD
DTSTART:20221030T020000
TZOFFSETFROM:+0200
TZOFFSETTO:+0100
TZNAME:CET
END:STANDARD
END:VTIMEZONE
END:VCALENDAR