BEGIN:VCALENDAR
VERSION:2.0
PRODID:-//wp-events-plugin.com//7.2.2.1//EN
TZID:Europe/Zurich
X-WR-TIMEZONE:Europe/Zurich
BEGIN:VEVENT
UID:249@eso-stroke.org
DTSTART;TZID=Europe/Zurich;VALUE=DATE:20260309
DTEND;TZID=Europe/Zurich;VALUE=DATE:20260311
DTSTAMP:20260106T141546Z
URL:https://eso-stroke.org/events/european-life-after-stroke-forum-2026/
SUMMARY:European Life After Stroke Forum 2026
DESCRIPTION:The Stroke Alliance for Europe’s (SAFE) European Life After S
 troke Forum (ELASF) brings together people with lived experience of strok
 e\, stroke healthcare professionals\, researchers and academics\, and poli
 cymakers from across Europe to meet\, network and advance understanding of
  life after stroke. Our programme\, developed by a scientific committee co
 mprising stroke healthcare professionals and researchers\, and people affe
 cted by stroke\, showcases the latest research\, promotes best practices a
 nd the perspectives of those with lived experience.\n\nEvent Website: www.
 elasf.org
ATTACH;FMTTYPE=image/jpeg:https://eso-stroke.org/wp-content/uploads/Regist
 er-now-1200x600-1.png
CATEGORIES:ESO-Endorsed
END:VEVENT
BEGIN:VTIMEZONE
TZID:Europe/Zurich
X-LIC-LOCATION:Europe/Zurich
BEGIN:STANDARD
DTSTART:20251026T020000
TZOFFSETFROM:+0200
TZOFFSETTO:+0100
TZNAME:CET
END:STANDARD
END:VTIMEZONE
END:VCALENDAR