BEGIN:VCALENDAR
VERSION:2.0
PRODID:-//wp-events-plugin.com//7.2.2.1//EN
TZID:Europe/Zurich
X-WR-TIMEZONE:Europe/Zurich
BEGIN:VEVENT
UID:168@eso-stroke.org
DTSTART;TZID=Europe/Zurich;VALUE=DATE:20240311
DTEND;TZID=Europe/Zurich;VALUE=DATE:20240313
DTSTAMP:20231211T092236Z
URL:https://eso-stroke.org/events/european-life-after-stroke-forum-2024/
SUMMARY:European Life After Stroke Forum 2024
DESCRIPTION:The Stroke Action Plan for Europe and SAFE’s recent ‘Life s
 aved is a life worth living’ report highlights the drastic need for more
  research in the field of life after stroke.\nThe European Life After Stro
 ke Forum was set up to address this problem. It aims to bring together res
 earch\, best practice and those with lived experience to encourage more re
 search and sharing of best practice across Europe. This will ultimately le
 ad to better guidelines being written and life after stroke having an equa
 l presence in national stroke plans.\n\nEvent Website: www.elasf.org
CATEGORIES:ESO-Endorsed
END:VEVENT
BEGIN:VTIMEZONE
TZID:Europe/Zurich
X-LIC-LOCATION:Europe/Zurich
BEGIN:STANDARD
DTSTART:20231029T020000
TZOFFSETFROM:+0200
TZOFFSETTO:+0100
TZNAME:CET
END:STANDARD
END:VTIMEZONE
END:VCALENDAR