BEGIN:VCALENDAR
VERSION:2.0
PRODID:-//wp-events-plugin.com//7.2.2.1//EN
TZID:Europe/Zurich
X-WR-TIMEZONE:Europe/Zurich
BEGIN:VEVENT
UID:88@eso-stroke.org
DTSTART;TZID=Europe/Zurich:20220504T000000
DTEND;TZID=Europe/Zurich:20220506T000000
DTSTAMP:20211222T102043Z
URL:https://eso-stroke.org/events/esoc-2022/
SUMMARY:ESOC 2022
DESCRIPTION:ESOC 2022 will be a hybrid* event to which we are delighted to 
 invite you and hope that as many of you as possible will be able to join u
 s.\n\nESOC is Europe’s leading forum\, and indeed a leading forum worldw
 ide\, for advances in research and clinical care of patients with cerebrov
 ascular diseases. ESOC 2022 will live up to its expectation\, and present 
 to you a packed\, high quality scientific programme including major clinic
 al trials\, state-of-the-art seminars\, educational workshops\, scientific
  communications of the latest research\, and debates about current controv
 ersies.\n\nFurther information on the Conference Website
CATEGORIES:ESO Event
LOCATION:Centre de Congrès de Lyon\, 50 Quai Charles de Gaulle\, Lyon\, Fr
 ance
X-APPLE-STRUCTURED-LOCATION;VALUE=URI;X-ADDRESS=50 Quai Charles de Gaulle\,
  Lyon\, France;X-APPLE-RADIUS=100;X-TITLE=Centre de Congrès de Lyon:geo:0
 ,0
END:VEVENT
BEGIN:VTIMEZONE
TZID:Europe/Zurich
X-LIC-LOCATION:Europe/Zurich
BEGIN:DAYLIGHT
DTSTART:20220327T030000
TZOFFSETFROM:+0100
TZOFFSETTO:+0200
TZNAME:CEST
END:DAYLIGHT
END:VTIMEZONE
END:VCALENDAR