BEGIN:VCALENDAR
VERSION:2.0
PRODID:-//wp-events-plugin.com//7.2.2.1//EN
TZID:Europe/Zurich
X-WR-TIMEZONE:Europe/Zurich
BEGIN:VEVENT
UID:281@eso-stroke.org
DTSTART;TZID=Europe/Zurich:20260224T160000
DTEND;TZID=Europe/Zurich:20260224T160000
DTSTAMP:20260217T093029Z
URL:https://eso-stroke.org/events/eso-wso-aha-asa-joint-webinar-highlights
 -from-the-international-stroke-conference-isc-2026/
SUMMARY:ESO-WSO-AHA/ASA Joint webinar Highlights from the International Str
 oke Conference (ISC) 2026
DESCRIPTION:Join us on Tuesday\, February 24\, 2026\, at 16:00 CET\, for a 
 live roundtable and Q&amp\;A session. Highlights from the International St
 roke Conference (ISC 2026) will be presented by experts from the World Str
 oke Organization (WSO)\, the American Heart Association/American Stroke As
 sociation (AHA/ASA) and the European Stroke Organisation (ESO). This sessi
 on will feature expert discussions on the most important advances in resea
 rch and clinical care of patients with cerebrovascular diseases. This webi
 nar is hosted by WSO.\n\nModerators:\n\n 	Prof. Lauren Sansing\, USA\n 	Pr
 of. Jeyaraj Pandian\, India\n\nSpeakers:\n\n 	Prof. Craig Anderson\, Austr
 alia\n 	Dr. Carlos Molina\, Spain\n 	Prof. Hanne Christensen\, Denmark\n 	
 Dr. Amrou Sarraj\, USA\n\nRegister here.
ATTACH;FMTTYPE=image/jpeg:https://eso-stroke.org/wp-content/uploads/ISC-20
 26-Highlights_Feb-26_Banner.jpg
CATEGORIES:ESO Event
END:VEVENT
BEGIN:VTIMEZONE
TZID:Europe/Zurich
X-LIC-LOCATION:Europe/Zurich
BEGIN:STANDARD
DTSTART:20251026T020000
TZOFFSETFROM:+0200
TZOFFSETTO:+0100
TZNAME:CET
END:STANDARD
END:VTIMEZONE
END:VCALENDAR