BEGIN:VCALENDAR
VERSION:2.0
PRODID:-//wp-events-plugin.com//7.2.2.1//EN
TZID:Europe/Zurich
X-WR-TIMEZONE:Europe/Zurich
BEGIN:VEVENT
UID:178@eso-stroke.org
DTSTART;TZID=Europe/Zurich:20240411T053000
DTEND;TZID=Europe/Zurich:20240411T070000
DTSTAMP:20240415T095055Z
URL:https://eso-stroke.org/events/eso-wise-webinar/
SUMMARY:ESO WISE webinar
DESCRIPTION:\n\nJoin us for the ESO WISE webinar “What makes a good ment
 or and where can I find one?” on Thursday 11 April 2024 from 17:30 to 
 19:00 CET.\n\nValeria Caso (Italy) and Charlotte Cordonnier (France) will 
 discuss the different forms of mentorship\, what is feasible and their per
 sonal experiences. A panel discussion moderated by Louisa Christensen and
  Else Charlotte Sandset will follow\, with the participation of Zuzana Gdo
 vinova\, Christine Kremer\, Robin Lemmens\, Arijana Lovrencic Huzjan Nejra
  Masic\, Georgios Tsivgoulis and Joanna Wardlaw.\n\nSend in your questions
  in advance using the registration form below or directly by email to esoi
 nfo@eso-stroke.org\n\nMore info: https://eso-stroke.org/projects/wise/
END:VEVENT
BEGIN:VTIMEZONE
TZID:Europe/Zurich
X-LIC-LOCATION:Europe/Zurich
BEGIN:DAYLIGHT
DTSTART:20240331T030000
TZOFFSETFROM:+0100
TZOFFSETTO:+0200
TZNAME:CEST
END:DAYLIGHT
END:VTIMEZONE
END:VCALENDAR