BEGIN:VCALENDAR
VERSION:2.0
PRODID:-//wp-events-plugin.com//7.2.2.1//EN
TZID:Europe/Zurich
X-WR-TIMEZONE:Europe/Zurich
BEGIN:VEVENT
UID:32@eso-stroke.org
DTSTART;TZID=Europe/Zurich:20201109T180000
DTEND;TZID=Europe/Zurich:20201109T200000
DTSTAMP:20201028T081630Z
URL:https://eso-stroke.org/events/eso-wise-leadership-workshop-2020/
SUMMARY:ESO WISE Leadership Workshop 2020
DESCRIPTION:Promoting gender equity in stroke leadership – global perspe
 ctive\n\nThe ESO WISE Workshop is aimed at stroke neurologists\, physician
 s and researchers at all career stages. All applicants are expected to be 
 ESO members or to have applied for ESO membership. Information about membe
 rship options can be found here (the junior membership application\, up to
  35 years\, is free of charge).\n\n&nbsp\;\n\nPlease register by 2 Novembe
 r 2020 by clicking here.
CATEGORIES:ESO Event
END:VEVENT
BEGIN:VTIMEZONE
TZID:Europe/Zurich
X-LIC-LOCATION:Europe/Zurich
BEGIN:STANDARD
DTSTART:20201025T020000
TZOFFSETFROM:+0200
TZOFFSETTO:+0100
TZNAME:CET
END:STANDARD
END:VTIMEZONE
END:VCALENDAR