BEGIN:VCALENDAR
VERSION:2.0
PRODID:-//wp-events-plugin.com//7.2.2.1//EN
TZID:Europe/Zurich
X-WR-TIMEZONE:Europe/Zurich
BEGIN:VEVENT
UID:280@eso-stroke.org
DTSTART;TZID=Europe/Zurich:20260219T160000
DTEND;TZID=Europe/Zurich:20260219T160000
DTSTAMP:20260217T092915Z
URL:https://eso-stroke.org/events/eso-webinar-27-intravenous-thrombolysis-
 in-patients-with-relative-and-absolute-contraindications-how-far-should-we
 -go/
SUMMARY:ESO Webinar #27 - Intravenous thrombolysis in patients with relativ
 e and absolute contraindications: how far should we go?
DESCRIPTION:Intravenous thrombolysis (IVT) is a powerful treatment for acut
 e ischemic stroke. However\, its use is often limited by multiple absolute
  or relative contraindications\, such as ongoing anticoagulation therapy\,
  delayed presentation\, history of intracerebral hemorrhage\, or a history
  of recent myocardial infarction or ischemic stroke.\n\nThis webinar will 
 discuss the current evidence regarding the safety and efficacy of IVT in t
 hese challenging clinical scenarios. First\, Dr. Meinel will present an in
 triguing clinical case that highlights the potential dilemmas stroke physi
 cians may have to face within a limited time. Next\, Dr. Kargiotis will re
 view the relevant literature and current guidelines on the use of IVT acro
 ss different clinical situations.\n\nThe final part of the webinar will fe
 ature an interactive discussion.\n\n Register here.
ATTACH;FMTTYPE=image/jpeg:https://eso-stroke.org/wp-content/uploads/ESO253
 6-Webinar-001.jpg
CATEGORIES:ESO Event
END:VEVENT
BEGIN:VTIMEZONE
TZID:Europe/Zurich
X-LIC-LOCATION:Europe/Zurich
BEGIN:STANDARD
DTSTART:20251026T020000
TZOFFSETFROM:+0200
TZOFFSETTO:+0100
TZNAME:CET
END:STANDARD
END:VTIMEZONE
END:VCALENDAR