BEGIN:VCALENDAR
VERSION:2.0
PRODID:-//wp-events-plugin.com//7.2.2.1//EN
TZID:Europe/Zurich
X-WR-TIMEZONE:Europe/Zurich
BEGIN:VEVENT
UID:37@eso-stroke.org
DTSTART;TZID=Europe/Zurich:20201021T140000
DTEND;TZID=Europe/Zurich:20201021T150000
DTSTAMP:20201006T081557Z
URL:https://eso-stroke.org/events/eso-trials-alliance-workshop-2020/
SUMMARY:ESO Trials Alliance Webinar 2020
DESCRIPTION:The theme of this year`s webinar is maintaining close collabora
 tion on stroke trials in Europe during the COVID-19 pandemic.\n\nThe webin
 ar will be held online on 21 October from 14:00 – 15:00 CET.\n\nFour int
 ernational speakers will give you insights into their experience as leader
 s of European stroke trials\, challenges and opportunities\, and adapting 
 to the 'new normal' during the COVID-19 pandemic. View the workshop progra
 mme for more information.\n\nThe ESOTA webinar is aimed at stroke neurolog
 ists\, physicians and researchers at all career stages. All applicants are
  expected to be ESO members or to have applied for ESO membership. Informa
 tion about membership options can be found here (the junior membership app
 lication\, individuals of up to 35 years\, is free of charge).\n\nFor part
 icipation\, please register until 16 October 2020 by clicking here. \n\nW
 e look forward to meeting you online and appreciate your continuous suppor
 t.
ATTACH;FMTTYPE=image/jpeg:https://eso-stroke.org/wp-content/uploads/ESO-lo
 go-3-e1587986061871.png
CATEGORIES:ESO Event
END:VEVENT
BEGIN:VTIMEZONE
TZID:Europe/Zurich
X-LIC-LOCATION:Europe/Zurich
BEGIN:DAYLIGHT
DTSTART:20200329T030000
TZOFFSETFROM:+0100
TZOFFSETTO:+0200
TZNAME:CEST
END:DAYLIGHT
END:VTIMEZONE
END:VCALENDAR